BEGIN:VCALENDAR
VERSION:2.0
PRODID:-//wp-events-plugin.com//6.4.7.3//EN
BEGIN:VEVENT
UID:571@hospizgruppe.de
DTSTART;TZID=Europe/Berlin:20191125T180000
DTEND;TZID=Europe/Berlin:20191125T200000
DTSTAMP:20191107T084822Z
URL:https://hospizgruppe.de/events/wege-durch-die-trauer-gemeinsam-gehen-b
 eginn-der-trauergruppe/
SUMMARY:Wege durch die Trauer gemeinsam gehen - Beginn der Trauergruppe
DESCRIPTION:Ambulante Hospizgruppe Bruchsal und Umgebung\nKaiserstraße 18\
 , 76646 Bruchsal\n\nIm November startet die „Ambulanten Hospizgruppe Bru
 chsal und Umgebung“ in der Kaiserstraße 18 in Bruchsal eine Gruppe für
  von Trauer betroffene Menschen. Die Gruppe in geschütztem Rahmen wird si
 ch in 14-täglichem Rhythmus insgesamt sechs Mal treffen. Trauernde könne
 n dort nicht nur erleben\, dass sie mit ihrem Schmerz nicht alleine sind\,
  sondern die Treffen unter fachlicher Leitung wollen auch Impulse setzen u
 nd Anregung geben\, mit dem Unabänderlichen leben zu lernen.\n\nDie Teiln
 ehmerzahl ist begrenzt.\n\nEine Anmeldung ist erforderlich und bis zum 20.
  November möglich unter Telefon 07251 - 320 40 10.\n\n&nbsp\;\n\n&nbsp\;
LOCATION:Ambulante Hospizgruppe Bruchsal und Umgebung\, Kaiserstraße 18\, 
 Bruchsal\, 76646\, Deutschland
GEO:49.12649;8.594709999999964
X-APPLE-STRUCTURED-LOCATION;VALUE=URI;X-ADDRESS=Kaiserstraße 18\, Bruchsal
 \, 76646\, Deutschland;X-APPLE-RADIUS=100;X-TITLE=Ambulante Hospizgruppe B
 ruchsal und Umgebung:geo:49.12649,8.594709999999964
END:VEVENT
BEGIN:VTIMEZONE
TZID:Europe/Berlin
X-LIC-LOCATION:Europe/Berlin
BEGIN:STANDARD
DTSTART:20191027T020000
TZOFFSETFROM:+0200
TZOFFSETTO:+0100
TZNAME:CET
END:STANDARD
END:VTIMEZONE
END:VCALENDAR