BEGIN:VCALENDAR
VERSION:2.0
PRODID:-//wp-events-plugin.com//6.4.7.3//EN
BEGIN:VEVENT
UID:80@hospizgruppe.de
DTSTART:20151207T153000Z
DTEND:20151207T173000Z
DTSTAMP:20151028T103611Z
URL:https://hospizgruppe.de/events/trauer-cafe-2015-12-07/
SUMMARY:Trauer-Café
DESCRIPTION:Ein offenes\, unverbindliches Angebot\, bei dem sich trauernde 
 Menschen untereinander austauschen und das gemeinsame Erleben teilen könn
 en. In geschütztem Rahmen kann geweint\, gelacht\, sich erinnert\, neuer 
 Mut und Kraft geschöpft werden. Gegen einen kleinen Kostenbeitrag werden 
 Heißgetränke und Kuchen gereicht.
LOCATION:Ambulante Hospizgruppe Bruchsal\, Kaiserstraße 18\, Bruchsal\, 76
 646\, Deutschland
GEO:49.12649;8.594709999999964
X-APPLE-STRUCTURED-LOCATION;VALUE=URI;X-ADDRESS=Kaiserstraße 18\, Bruchsal
 \, 76646\, Deutschland;X-APPLE-RADIUS=100;X-TITLE=Ambulante Hospizgruppe B
 ruchsal:geo:49.12649,8.594709999999964
END:VEVENT
END:VCALENDAR