BEGIN:VCALENDAR
VERSION:2.0
PRODID:-//wp-events-plugin.com//6.4.7.3//EN
BEGIN:VEVENT
UID:580@hospizgruppe.de
DTSTART;TZID=Europe/Berlin:20200309T190000
DTEND;TZID=Europe/Berlin:20200309T210000
DTSTAMP:20200218T105731Z
URL:https://hospizgruppe.de/events/selbsthilfegruppe-verwitwet-mitten-im-l
 eben-2/
SUMMARY:Selbsthilfegruppe „Verwitwet mitten im Leben“
DESCRIPTION:Kaiserstraße 18\, Bruchsal\n\nBei Interesse melden Sie sich bi
 tte unter bruchsal@hospizgruppe.de\, oder telefonisch unter 07251-320 40 1
 0\n\n&nbsp\;\n\n&nbsp\;
LOCATION:Ambulante Hospizgruppe Bruchsal und Umgebung\, Kaiserstraße 18\, 
 Bruchsal\, 76646\, Deutschland
GEO:49.12649;8.594709999999964
X-APPLE-STRUCTURED-LOCATION;VALUE=URI;X-ADDRESS=Kaiserstraße 18\, Bruchsal
 \, 76646\, Deutschland;X-APPLE-RADIUS=100;X-TITLE=Ambulante Hospizgruppe B
 ruchsal und Umgebung:geo:49.12649,8.594709999999964
END:VEVENT
BEGIN:VTIMEZONE
TZID:Europe/Berlin
X-LIC-LOCATION:Europe/Berlin
BEGIN:STANDARD
DTSTART:20191027T020000
TZOFFSETFROM:+0200
TZOFFSETTO:+0100
TZNAME:CET
END:STANDARD
END:VTIMEZONE
END:VCALENDAR