BEGIN:VCALENDAR
VERSION:2.0
PRODID:-//wp-events-plugin.com//6.4.7.3//EN
BEGIN:VEVENT
UID:139@hospizgruppe.de
DTSTART:20160229T190000Z
DTEND:20160229T203000Z
DTSTAMP:20160216T123828Z
URL:https://hospizgruppe.de/events/informationsabend-fuer-an-hospizarbeit-
 interessierte-menschen/
SUMMARY:Informationsabend in Bruchsal für an Hospizarbeit interessierte Me
 nschen
DESCRIPTION:
LOCATION:Kaiserstraße 18\, Kaiserstraße 18\, Bruchsal\, Deutschland
GEO:49.12649;8.594709999999964
X-APPLE-STRUCTURED-LOCATION;VALUE=URI;X-ADDRESS=Kaiserstraße 18\, Bruchsal
 \, Deutschland;X-APPLE-RADIUS=100;X-TITLE=Kaiserstraße 18:geo:49.12649,8.
 594709999999964
END:VEVENT
END:VCALENDAR