BEGIN:VCALENDAR
VERSION:2.0
PRODID:-//wp-events-plugin.com//6.4.7.3//EN
BEGIN:VEVENT
UID:283@hospizgruppe.de
DTSTART:20170816T173000Z
DTEND:20170816T190000Z
DTSTAMP:20161206T150655Z
URL:https://hospizgruppe.de/events/heilsame-lieder-fuer-seele-koerper-2017
 -08-16/
SUMMARY:HeilSame Lieder für Seele & Körper
DESCRIPTION:Gemeinsames Singen ohne Noten oder Anspruch auf Leistung
LOCATION:Kaiserstraße 18\, Kaiserstraße 18\, Bruchsal\, Deutschland
GEO:49.12649;8.594709999999964
X-APPLE-STRUCTURED-LOCATION;VALUE=URI;X-ADDRESS=Kaiserstraße 18\, Bruchsal
 \, Deutschland;X-APPLE-RADIUS=100;X-TITLE=Kaiserstraße 18:geo:49.12649,8.
 594709999999964
END:VEVENT
END:VCALENDAR