BEGIN:VCALENDAR
VERSION:2.0
PRODID:-//wp-events-plugin.com//6.4.7.3//EN
BEGIN:VEVENT
UID:308@hospizgruppe.de
DTSTART:20170427T150000Z
DTEND:20170427T170000Z
DTSTAMP:20161206T152153Z
URL:https://hospizgruppe.de/events/gehspraeche-winterzeit-1500-bis-1700-uh
 r-2017-04-27/
SUMMARY:Ge(h)spräche --> Winterzeit 15:00 bis 17:00 Uhr
DESCRIPTION:Naturspaziergang für trauernde Menschen (ca. 2 Stunden)
LOCATION:Parkplatz gg.über Friedhofsgärtnerei\, Friedhofstr. 74\, Bruchsa
 l\, 76646\, Deutschland
GEO:49.11884999999999;8.60005000000001
X-APPLE-STRUCTURED-LOCATION;VALUE=URI;X-ADDRESS=Friedhofstr. 74\, Bruchsal\
 , 76646\, Deutschland;X-APPLE-RADIUS=100;X-TITLE=Parkplatz gg.über Friedh
 ofsgärtnerei:geo:49.11884999999999,8.60005000000001
END:VEVENT
END:VCALENDAR