BEGIN:VCALENDAR
VERSION:2.0
PRODID:-//wp-events-plugin.com//6.4.7.3//EN
BEGIN:VEVENT
UID:449@hospizgruppe.de
DTSTART:20190125T193000Z
DTEND:20190125T230000Z
DTSTAMP:20181115T074824Z
URL:https://hospizgruppe.de/events/einfach-leben-kunst-trifft-auf-pop-und-
 soul/
SUMMARY:„Einfach Leben“ – Kunst trifft auf Pop und Soul
DESCRIPTION:Spendenevent mit Musik unter anderem von Robert Ahl and friends
  und Edo Zanki und Werken von Karl Peter Muller\n\nWaldseehalle Forst\, Ax
 el Huber Forum\nHambrücker Strasse 61\n76694 Forst
END:VEVENT
END:VCALENDAR