BEGIN:VCALENDAR
VERSION:2.0
PRODID:-//wp-events-plugin.com//6.4.7.3//EN
BEGIN:VEVENT
UID:565@hospizgruppe.de
DTSTART;TZID=Europe/Berlin:20191208T150000
DTEND;TZID=Europe/Berlin:20191208T170000
DTSTAMP:20190725T094934Z
URL:https://hospizgruppe.de/events/cafe-regenbogen-in-bad-schoenborn-4/
SUMMARY:Café Regenbogen in Bad Schönborn
DESCRIPTION:Familienzentrum Langenbrücken\, Huttenstraße 13\, 76669 Bad S
 chönborn\n\nMit diesem offenen\, unverbindlichen Angebot bietet die „Am
 bulante Hospizgruppe Bruchsal und Umgebung“ trauernden Menschen eine Mö
 glichkeit\, sich untereinander auszutauschen und das gemeinsame Erleben zu
  teilen. In geschütztem Rahmen kann geweint\, gelacht\, sich erinnert\, n
 euer Mut und Kraft geschöpft werden.\n\nKommen Sie einfach vorbei – ein
 e vorherige Anmeldung ist nicht erforderlich.
ATTACH;FMTTYPE=image/jpeg:https://hospizgruppe.de/wp-content/uploads/2019/
 07/Café-Regenbogen.jpg
LOCATION:Familienzentrum Langenbrücken\, Huttenstraße 13\, Bad Schönborn
 \, 76669\, Deutschland
X-APPLE-STRUCTURED-LOCATION;VALUE=URI;X-ADDRESS=Huttenstraße 13\, Bad Sch
 önborn\, 76669\, Deutschland;X-APPLE-RADIUS=100;X-TITLE=Familienzentrum L
 angenbrücken:geo:0,0
END:VEVENT
BEGIN:VTIMEZONE
TZID:Europe/Berlin
X-LIC-LOCATION:Europe/Berlin
BEGIN:STANDARD
DTSTART:20191027T020000
TZOFFSETFROM:+0200
TZOFFSETTO:+0100
TZNAME:CET
END:STANDARD
END:VTIMEZONE
END:VCALENDAR