BEGIN:VCALENDAR
VERSION:2.0
PRODID:-//wp-events-plugin.com//6.4.7.3//EN
BEGIN:VEVENT
UID:591@hospizgruppe.de
DTSTART;TZID=Europe/Berlin:20201129T150000
DTEND;TZID=Europe/Berlin:20201129T170000
DTSTAMP:20201105T092051Z
URL:https://hospizgruppe.de/events/cafe-regenbogen-begegnungsmoeglichkeit-
 fuer-trauernde-menschen-4/
SUMMARY:Café Regenbogen - Begegnungsmöglichkeit für trauernde Menschen
DESCRIPTION:in den Räumen der Ambulanten Hospizgruppe\nKaiserstraße 18 in
  Bruchsal\n\nEin offenes\, unverbindliches Angebot\, bei dem sich trauernd
 e Menschen untereinander austauschen und das gemeinsame Erleben teilen kö
 nnen. In geschütztem Rahmen kann geweint\, gelacht\, sich erinnert\, neue
 r Mut und Kraft geschöpft werden.\n\nAufgrund der derzeitigen Situation b
 itten wir unsere Gäste eine eigene Tasse und einen Mundschutz mitzubringe
 n.\n\nDamit der Raum vorbereitet und alle nötigen Abstandsregelungen eing
 ehalten werden können\, bitten wir Sie außerdem\, sich vorab anzumelden:
 \n\nper Mail unter: bruchsal@hospizgruppe.de oder telefonisch unter: 07251
 /3204010\n\n&nbsp\;\n\nBild: Elke Ramhofer
ATTACH;FMTTYPE=image/jpeg:https://hospizgruppe.de/wp-content/uploads/2018/
 12/Café-Regenbogen.jpg
LOCATION:Ambulante Hospizgruppe Bruchsal und Umgebung\, Kaiserstraße 18\, 
 Bruchsal\, 76646\, Deutschland
GEO:49.12649;8.594709999999964
X-APPLE-STRUCTURED-LOCATION;VALUE=URI;X-ADDRESS=Kaiserstraße 18\, Bruchsal
 \, 76646\, Deutschland;X-APPLE-RADIUS=100;X-TITLE=Ambulante Hospizgruppe B
 ruchsal und Umgebung:geo:49.12649,8.594709999999964
END:VEVENT
BEGIN:VTIMEZONE
TZID:Europe/Berlin
X-LIC-LOCATION:Europe/Berlin
BEGIN:STANDARD
DTSTART:20201025T020000
TZOFFSETFROM:+0200
TZOFFSETTO:+0100
TZNAME:CET
END:STANDARD
END:VTIMEZONE
END:VCALENDAR