BEGIN:VCALENDAR
VERSION:2.0
PRODID:-//wp-events-plugin.com//6.4.7.3//EN
BEGIN:VEVENT
UID:589@hospizgruppe.de
DTSTART;TZID=Europe/Berlin:20200927T150000
DTEND;TZID=Europe/Berlin:20200927T170000
DTSTAMP:20200923T090341Z
URL:https://hospizgruppe.de/events/cafe-regenbogen-begegnungsmoeglichkeit-
 fuer-trauernde-menschen-2/
SUMMARY:Café Regenbogen - Begegnungsmöglichkeit für trauernde Menschen
DESCRIPTION:Ambulante Hospizgruppe Bruchsal und Umgebung\nKaiserstraße 18\
 , in Bruchsal\n\nEin offenes\, unverbindliches Angebot\, bei dem sich trau
 ernde Menschen untereinander austauschen und das gemeinsame Erleben teilen
  können. In geschütztem Rahmen kann geweint\, gelacht\, sich erinnert\, 
 neuer Mut und Kraft geschöpft werden.\n\nAus organisatorischen Gründen k
 önnen die Treffen derzeit noch nicht\, wie gewohnt\, in Bad Schönborn un
 d Waghäusel-Wiesental stattfinden. Dafür freuen wir uns sehr\, Sie in un
 seren Räumlichkeiten in Bruchsal begrüßen zu dürfen.\n\nAufgrund der d
 erzeitigen Situation bitten wir unsere Gäste eine eigene Tasse und einen 
 Mundschutz mitzubringen.\n\nDamit der Raum vorbereitet und alle nötigen A
 bstandsregelungen eingehalten werden können\, bitten wir Sie außerdem\, 
 sich vorab bei der Ansprechpartnerin für diesen Termin\, Beatrix Hasert\,
  anzumelden:\n\nper Mail unter: hasert@hospizgruppe.de oder telefonisch un
 ter: 07251/3204014
LOCATION:Ambulante Hospizgruppe Bruchsal und Umgebung\, Kaiserstraße 18\, 
 Bruchsal\, 76646\, Deutschland
GEO:49.12649;8.594709999999964
X-APPLE-STRUCTURED-LOCATION;VALUE=URI;X-ADDRESS=Kaiserstraße 18\, Bruchsal
 \, 76646\, Deutschland;X-APPLE-RADIUS=100;X-TITLE=Ambulante Hospizgruppe B
 ruchsal und Umgebung:geo:49.12649,8.594709999999964
END:VEVENT
BEGIN:VTIMEZONE
TZID:Europe/Berlin
X-LIC-LOCATION:Europe/Berlin
BEGIN:DAYLIGHT
DTSTART:20200329T030000
TZOFFSETFROM:+0100
TZOFFSETTO:+0200
TZNAME:CEST
END:DAYLIGHT
END:VTIMEZONE
END:VCALENDAR