BEGIN:VCALENDAR
VERSION:2.0
PRODID:-//wp-events-plugin.com//6.4.7.3//EN
BEGIN:VEVENT
UID:609@hospizgruppe.de
DTSTART;TZID=Europe/Berlin:20220130T150000
DTEND;TZID=Europe/Berlin:20220130T170000
DTSTAMP:20211215T074755Z
URL:https://hospizgruppe.de/events/cafe-regenbogen-begegnungsmoeglichkeit-
 fuer-trauernde-menschen-11/
SUMMARY:Café Regenbogen - Begegnungsmöglichkeit für trauernde Menschen
DESCRIPTION:Paul-Schneider-Gemeindehaus\, Rosenhag 10\, in Waghäusel-Wiese
 ntal\n\nEin offenes\, unverbindliches Angebot\, bei dem sich trauernde Men
 schen untereinander austauschen und das gemeinsame Erleben teilen können.
  In geschütztem Rahmen kann geweint\, gelacht\, sich erinnert\, neuer Mut
  und Kraft geschöpft werden.  \n\nJeden 3. Freitag im Monat von 16:00 
 – 18:00 Uhr\, in den Räumen der Ambulanten Hospizgruppe\, Kaiserstraße
  18\, in Bruchsal.\nJeden letzten Sonntag im Monat von 15:00 – 17:00 Uhr
 \, Paul-Schneider-Gemeindehaus\, Rosenhag 10\, in Waghäusel-Wiesental. \
 n\nDie Veranstaltungen finden unter den zu diesem Zeitpunkt gültigen Coro
 nabedingungen statt. Informationen erhalten Sie bei der Anmeldung.\n\nAnme
 ldung unter Tel. 07251 – 320 40 10 \n\n&nbsp\;\n\nBild: Elke Ramhofer
ATTACH;FMTTYPE=image/jpeg:https://hospizgruppe.de/wp-content/uploads/2018/
 12/Café-Regenbogen.jpg
LOCATION:Paul-Schneider-Gemeindehaus\, Rosenhag 10\, Waghäusel-Wiesental\,
  68753\, Deutschland
X-APPLE-STRUCTURED-LOCATION;VALUE=URI;X-ADDRESS=Rosenhag 10\, Waghäusel-Wi
 esental\, 68753\, Deutschland;X-APPLE-RADIUS=100;X-TITLE=Paul-Schneider-Ge
 meindehaus:geo:0,0
END:VEVENT
BEGIN:VTIMEZONE
TZID:Europe/Berlin
X-LIC-LOCATION:Europe/Berlin
BEGIN:STANDARD
DTSTART:20211031T020000
TZOFFSETFROM:+0200
TZOFFSETTO:+0100
TZNAME:CET
END:STANDARD
END:VTIMEZONE
END:VCALENDAR