BEGIN:VCALENDAR
VERSION:2.0
PRODID:-//wp-events-plugin.com//6.4.7.3//EN
BEGIN:VEVENT
UID:436@hospizgruppe.de
DTSTART:20180120T193000Z
DTEND:20180120T220000Z
DTSTAMP:20171228T120251Z
URL:https://hospizgruppe.de/events/benefizkonzert-lust-auf-leben-mit-gabri
 elle-heidelberger/
SUMMARY:Benefizkonzert "Lust auf Leben" mit Gabrielle Heidelberger
DESCRIPTION:
ATTACH;FMTTYPE=image/jpeg:https://hospizgruppe.de/wp-content/uploads/2017/
 12/Gabriele-Heidelberger.jpg
LOCATION:Evangelische Kirche\, Kirchenstraße 16\, Eggenstein\, 76344\, Deu
 tschland
GEO:49.07799;8.387190000000032
X-APPLE-STRUCTURED-LOCATION;VALUE=URI;X-ADDRESS=Kirchenstraße 16\, Eggenst
 ein\, 76344\, Deutschland;X-APPLE-RADIUS=100;X-TITLE=Evangelische Kirche:g
 eo:49.07799,8.387190000000032
END:VEVENT
END:VCALENDAR